BEGIN:VCALENDAR
VERSION:2.0
PRODID:-//The Moorcroft Area Chamber of Commerce - ECPv6.15.20//NONSGML v1.0//EN
CALSCALE:GREGORIAN
METHOD:PUBLISH
X-WR-CALNAME:The Moorcroft Area Chamber of Commerce
X-ORIGINAL-URL:https://moorcroftchamber.com
X-WR-CALDESC:Events for The Moorcroft Area Chamber of Commerce
REFRESH-INTERVAL;VALUE=DURATION:PT1H
X-Robots-Tag:noindex
X-PUBLISHED-TTL:PT1H
BEGIN:VTIMEZONE
TZID:America/Denver
BEGIN:DAYLIGHT
TZOFFSETFROM:-0700
TZOFFSETTO:-0600
TZNAME:MDT
DTSTART:20220313T090000
END:DAYLIGHT
BEGIN:STANDARD
TZOFFSETFROM:-0600
TZOFFSETTO:-0700
TZNAME:MST
DTSTART:20221106T080000
END:STANDARD
BEGIN:DAYLIGHT
TZOFFSETFROM:-0700
TZOFFSETTO:-0600
TZNAME:MDT
DTSTART:20230312T090000
END:DAYLIGHT
BEGIN:STANDARD
TZOFFSETFROM:-0600
TZOFFSETTO:-0700
TZNAME:MST
DTSTART:20231105T080000
END:STANDARD
BEGIN:DAYLIGHT
TZOFFSETFROM:-0700
TZOFFSETTO:-0600
TZNAME:MDT
DTSTART:20240310T090000
END:DAYLIGHT
BEGIN:STANDARD
TZOFFSETFROM:-0600
TZOFFSETTO:-0700
TZNAME:MST
DTSTART:20241103T080000
END:STANDARD
END:VTIMEZONE
BEGIN:VEVENT
DTSTART;TZID=America/Denver:20230131T160000
DTEND;TZID=America/Denver:20230131T210000
DTSTAMP:20260423T102002
CREATED:20230103T183835Z
LAST-MODIFIED:20230103T215731Z
UID:7072-1675180800-1675198800@moorcroftchamber.com
SUMMARY:HS Wrestling @ Rapid
DESCRIPTION:
URL:https://moorcroftchamber.com/event/hs-wrestling-rapid/
END:VEVENT
BEGIN:VEVENT
DTSTART;TZID=America/Denver:20230128T110000
DTEND;TZID=America/Denver:20230128T170000
DTSTAMP:20260423T102002
CREATED:20230103T183734Z
LAST-MODIFIED:20230103T214703Z
UID:7068-1674903600-1674925200@moorcroftchamber.com
SUMMARY:HS Basketball @ HOME
DESCRIPTION:Freshman Start Time: 11am \nJV Start Time: 2:30pm \nVarsity Start Time: 3:30pm
URL:https://moorcroftchamber.com/event/hs-basketball-home/
END:VEVENT
BEGIN:VEVENT
DTSTART;VALUE=DATE:20230128
DTEND;VALUE=DATE:20230129
DTSTAMP:20260423T102002
CREATED:20230103T183800Z
LAST-MODIFIED:20230103T214139Z
UID:7070-1674864000-1674950399@moorcroftchamber.com
SUMMARY:HS Wrestling @ Belle Fourche
DESCRIPTION:
URL:https://moorcroftchamber.com/event/hs-wrestling-belle-fourche-2/
END:VEVENT
BEGIN:VEVENT
DTSTART;TZID=America/Denver:20230127T190000
DTEND;TZID=America/Denver:20230127T210000
DTSTAMP:20260423T102002
CREATED:20230103T183600Z
LAST-MODIFIED:20230103T183600Z
UID:7066-1674846000-1674853200@moorcroftchamber.com
SUMMARY:HS Wrestling @ Belle Fourche
DESCRIPTION:
URL:https://moorcroftchamber.com/event/hs-wrestling-belle-fourche/
END:VEVENT
BEGIN:VEVENT
DTSTART;TZID=America/Denver:20230127T160000
DTEND;TZID=America/Denver:20230127T210000
DTSTAMP:20260423T102002
CREATED:20230103T183520Z
LAST-MODIFIED:20230103T220229Z
UID:7064-1674835200-1674853200@moorcroftchamber.com
SUMMARY:HS Basketball @ Sundance
DESCRIPTION:Freshman Start Time: 4pm / \nJV Start Time: 5:30pm / \nVarsity Start Time: 7pm
URL:https://moorcroftchamber.com/event/hs-basketball-sundance/
END:VEVENT
BEGIN:VEVENT
DTSTART;TZID=America/Denver:20230126T170000
DTEND;TZID=America/Denver:20230126T190000
DTSTAMP:20260423T102002
CREATED:20230103T183419Z
LAST-MODIFIED:20230103T183419Z
UID:7062-1674752400-1674759600@moorcroftchamber.com
SUMMARY:Senior Center Birthday & Anniversary Dinner
DESCRIPTION:
URL:https://moorcroftchamber.com/event/senior-center-birthday-anniversary-dinner/
END:VEVENT
BEGIN:VEVENT
DTSTART;TZID=America/Denver:20230123T180000
DTEND;TZID=America/Denver:20230123T190000
DTSTAMP:20260423T102002
CREATED:20230103T181815Z
LAST-MODIFIED:20230103T181815Z
UID:7058-1674496800-1674500400@moorcroftchamber.com
SUMMARY:Moorcroft Historical Society Meeting
DESCRIPTION:
URL:https://moorcroftchamber.com/event/moorcroft-historical-society-meeting/
END:VEVENT
BEGIN:VEVENT
DTSTART;TZID=America/Denver:20230121T120000
DTEND;TZID=America/Denver:20230121T170000
DTSTAMP:20260423T102002
CREATED:20230103T181642Z
LAST-MODIFIED:20230103T220246Z
UID:7054-1674302400-1674320400@moorcroftchamber.com
SUMMARY:HS Basketball @ Glenrock
DESCRIPTION:Freshman Start Time: 12pm / \nJV Start Time: 1:30pm / \nVarsity Start Time: 3pm
URL:https://moorcroftchamber.com/event/hs-basketball-glenrock/
END:VEVENT
BEGIN:VEVENT
DTSTART;VALUE=DATE:20230121
DTEND;VALUE=DATE:20230122
DTSTAMP:20260423T102002
CREATED:20230103T181711Z
LAST-MODIFIED:20230103T215046Z
UID:7056-1674259200-1674345599@moorcroftchamber.com
SUMMARY:HS Wrestling HOME
DESCRIPTION:
URL:https://moorcroftchamber.com/event/hs-wrestling-home-2/
END:VEVENT
BEGIN:VEVENT
DTSTART;TZID=America/Denver:20230120T190000
DTEND;TZID=America/Denver:20230120T210000
DTSTAMP:20260423T102002
CREATED:20230103T181506Z
LAST-MODIFIED:20230103T183126Z
UID:7052-1674241200-1674248400@moorcroftchamber.com
SUMMARY:HS Wrestling HOME
DESCRIPTION:
URL:https://moorcroftchamber.com/event/hs-wrestling-home/
END:VEVENT
BEGIN:VEVENT
DTSTART;TZID=America/Denver:20230120T160000
DTEND;TZID=America/Denver:20230120T210000
DTSTAMP:20260423T102002
CREATED:20230103T181435Z
LAST-MODIFIED:20230103T220259Z
UID:7049-1674230400-1674248400@moorcroftchamber.com
SUMMARY:HS Basketball @ Newcastle
DESCRIPTION:Freshman Start Time: 4pm / \nJV Start Time: 5:30pm / \nVarsity Start Time: 7pm
URL:https://moorcroftchamber.com/event/hs-basketball-newcastle-hs-wrestling-home/
END:VEVENT
BEGIN:VEVENT
DTSTART;TZID=America/Denver:20230119T160000
DTEND;TZID=America/Denver:20230119T180000
DTSTAMP:20260423T102002
CREATED:20230103T181030Z
LAST-MODIFIED:20230103T181030Z
UID:7047-1674144000-1674151200@moorcroftchamber.com
SUMMARY:MIC Food Pantry
DESCRIPTION:
URL:https://moorcroftchamber.com/event/mic-food-pantry/
END:VEVENT
BEGIN:VEVENT
DTSTART;TZID=America/Denver:20230117T120000
DTEND;TZID=America/Denver:20230117T130000
DTSTAMP:20260423T102002
CREATED:20230103T175725Z
LAST-MODIFIED:20230103T182424Z
UID:7034-1673956800-1673960400@moorcroftchamber.com
SUMMARY:January Chamber Meeting
DESCRIPTION:
URL:https://moorcroftchamber.com/event/jan-chamber-meeting/
LOCATION:West Texas Trail Museum
END:VEVENT
BEGIN:VEVENT
DTSTART;VALUE=DATE:20230114
DTEND;VALUE=DATE:20230115
DTSTAMP:20260423T102002
CREATED:20230103T180456Z
LAST-MODIFIED:20230103T215204Z
UID:7045-1673654400-1673740799@moorcroftchamber.com
SUMMARY:HS Wrestling @ Miles City
DESCRIPTION:
URL:https://moorcroftchamber.com/event/hs-wrestling-miles-city-2/
END:VEVENT
BEGIN:VEVENT
DTSTART;TZID=America/Denver:20230113T160000
DTEND;TZID=America/Denver:20230113T210000
DTSTAMP:20260423T102002
CREATED:20230103T180427Z
LAST-MODIFIED:20230103T215255Z
UID:7043-1673625600-1673643600@moorcroftchamber.com
SUMMARY:HS Wrestling @ Miles City
DESCRIPTION:
URL:https://moorcroftchamber.com/event/hs-wrestling-miles-city/
END:VEVENT
BEGIN:VEVENT
DTSTART;TZID=America/Denver:20230112T110000
DTEND;TZID=America/Denver:20230112T140000
DTSTAMP:20260423T102002
CREATED:20230103T180350Z
LAST-MODIFIED:20230103T181853Z
UID:7041-1673521200-1673532000@moorcroftchamber.com
SUMMARY:RM Food Pantry
DESCRIPTION:
URL:https://moorcroftchamber.com/event/rm-food-pantry/
END:VEVENT
BEGIN:VEVENT
DTSTART;TZID=America/Denver:20230111T190000
DTEND;TZID=America/Denver:20230111T200000
DTSTAMP:20260423T102002
CREATED:20230103T180242Z
LAST-MODIFIED:20230103T181917Z
UID:7039-1673463600-1673467200@moorcroftchamber.com
SUMMARY:Town Council Meeting
DESCRIPTION:
URL:https://moorcroftchamber.com/event/town-council-meeting/
END:VEVENT
BEGIN:VEVENT
DTSTART;VALUE=DATE:20230107
DTEND;VALUE=DATE:20230108
DTSTAMP:20260423T102002
CREATED:20230103T182113Z
LAST-MODIFIED:20230103T215429Z
UID:7032-1673049600-1673135999@moorcroftchamber.com
SUMMARY:HS Wrestling @ Hettinger
DESCRIPTION:
URL:https://moorcroftchamber.com/event/hs-wrestling-hettinger-2/
END:VEVENT
BEGIN:VEVENT
DTSTART;TZID=America/Denver:20230106T190000
DTEND;TZID=America/Denver:20230106T210000
DTSTAMP:20260423T102002
CREATED:20230103T164744Z
LAST-MODIFIED:20230103T182041Z
UID:7030-1673031600-1673038800@moorcroftchamber.com
SUMMARY:HS Wrestling @ Hettinger
DESCRIPTION:
URL:https://moorcroftchamber.com/event/hs-wrestling-hettinger/
END:VEVENT
BEGIN:VEVENT
DTSTART;TZID=America/Denver:20230106T160000
DTEND;TZID=America/Denver:20230106T210000
DTSTAMP:20260423T102002
CREATED:20230103T164423Z
LAST-MODIFIED:20230103T220212Z
UID:7028-1673020800-1673038800@moorcroftchamber.com
SUMMARY:HS Basketball @ Upton
DESCRIPTION:Freshman Start Time: 4pm / \nJV Start Time: 5:30pm / \nVarsity Start Time: 7pm
URL:https://moorcroftchamber.com/event/hs-basketball-4-530-upton/
END:VEVENT
BEGIN:VEVENT
DTSTART;TZID=America/Denver:20230105T160000
DTEND;TZID=America/Denver:20230105T180000
DTSTAMP:20260423T102002
CREATED:20230103T163906Z
LAST-MODIFIED:20230103T182154Z
UID:7024-1672934400-1672941600@moorcroftchamber.com
SUMMARY:MIC Food Pantry
DESCRIPTION:
URL:https://moorcroftchamber.com/event/mic-food-pantry-4-6pm/
END:VEVENT
END:VCALENDAR